BEGIN:VCALENDAR
VERSION:2.0
PRODID:-//routiers-cvfl.li - ECPv6.15.20//NONSGML v1.0//EN
CALSCALE:GREGORIAN
METHOD:PUBLISH
X-ORIGINAL-URL:https://routiers-cvfl.li
X-WR-CALDESC:Veranstaltungen für routiers-cvfl.li
REFRESH-INTERVAL;VALUE=DURATION:PT1H
X-Robots-Tag:noindex
X-PUBLISHED-TTL:PT1H
BEGIN:VTIMEZONE
TZID:Europe/Zurich
BEGIN:DAYLIGHT
TZOFFSETFROM:+0100
TZOFFSETTO:+0200
TZNAME:CEST
DTSTART:20250330T010000
END:DAYLIGHT
BEGIN:STANDARD
TZOFFSETFROM:+0200
TZOFFSETTO:+0100
TZNAME:CET
DTSTART:20251026T010000
END:STANDARD
BEGIN:DAYLIGHT
TZOFFSETFROM:+0100
TZOFFSETTO:+0200
TZNAME:CEST
DTSTART:20260329T010000
END:DAYLIGHT
BEGIN:STANDARD
TZOFFSETFROM:+0200
TZOFFSETTO:+0100
TZNAME:CET
DTSTART:20261025T010000
END:STANDARD
BEGIN:DAYLIGHT
TZOFFSETFROM:+0100
TZOFFSETTO:+0200
TZNAME:CEST
DTSTART:20270328T010000
END:DAYLIGHT
BEGIN:STANDARD
TZOFFSETFROM:+0200
TZOFFSETTO:+0100
TZNAME:CET
DTSTART:20271031T010000
END:STANDARD
END:VTIMEZONE
BEGIN:VEVENT
DTSTART;TZID=Europe/Zurich:20261205T180000
DTEND;TZID=Europe/Zurich:20261205T180000
DTSTAMP:20260419T151349
CREATED:20240301T192702Z
LAST-MODIFIED:20260312T064308Z
UID:5234-1796493600-1796493600@routiers-cvfl.li
SUMMARY:Marroniplausch
DESCRIPTION:Für diesen Anlass ist eine Anmeldung erforderlich!
URL:https://routiers-cvfl.li/event/marroniplausch/
LOCATION:Ort wird noch bekannt gegeben
CATEGORIES:Unterhaltung
END:VEVENT
BEGIN:VEVENT
DTSTART;TZID=Europe/Zurich:20261212T080000
DTEND;TZID=Europe/Zurich:20261212T080000
DTSTAMP:20260419T151349
CREATED:20240229T183603Z
LAST-MODIFIED:20260312T063739Z
UID:5153-1797062400-1797062400@routiers-cvfl.li
SUMMARY:ARV im Alltag
DESCRIPTION:
URL:https://routiers-cvfl.li/event/arv-im-alltag/
LOCATION:Schäfle\, Läui 19\, Sennwald\, 9496\, Switzerland
CATEGORIES:Kurs
END:VEVENT
END:VCALENDAR